BEGIN:VCALENDAR
VERSION:2.0
PRODID:-//HIS Daughters’ Legacy Inc. - ECPv6.15.10//NONSGML v1.0//EN
CALSCALE:GREGORIAN
METHOD:PUBLISH
X-ORIGINAL-URL:https://hisdaughterslegacy.org
X-WR-CALDESC:Events for HIS Daughters’ Legacy Inc.
REFRESH-INTERVAL;VALUE=DURATION:PT1H
X-Robots-Tag:noindex
X-PUBLISHED-TTL:PT1H
BEGIN:VTIMEZONE
TZID:America/New_York
BEGIN:DAYLIGHT
TZOFFSETFROM:-0500
TZOFFSETTO:-0400
TZNAME:EDT
DTSTART:20240310T070000
END:DAYLIGHT
BEGIN:STANDARD
TZOFFSETFROM:-0400
TZOFFSETTO:-0500
TZNAME:EST
DTSTART:20241103T060000
END:STANDARD
BEGIN:DAYLIGHT
TZOFFSETFROM:-0500
TZOFFSETTO:-0400
TZNAME:EDT
DTSTART:20250309T070000
END:DAYLIGHT
BEGIN:STANDARD
TZOFFSETFROM:-0400
TZOFFSETTO:-0500
TZNAME:EST
DTSTART:20251102T060000
END:STANDARD
BEGIN:DAYLIGHT
TZOFFSETFROM:-0500
TZOFFSETTO:-0400
TZNAME:EDT
DTSTART:20260308T070000
END:DAYLIGHT
BEGIN:STANDARD
TZOFFSETFROM:-0400
TZOFFSETTO:-0500
TZNAME:EST
DTSTART:20261101T060000
END:STANDARD
END:VTIMEZONE
BEGIN:VEVENT
DTSTART;TZID=America/New_York:20251205T150000
DTEND;TZID=America/New_York:20251205T210000
DTSTAMP:20260423T175748
CREATED:20241102T181431Z
LAST-MODIFIED:20251129T192722Z
UID:1512-1764946800-1764968400@hisdaughterslegacy.org
SUMMARY:Community Service - Christmas Town - Service will be done in shifts
DESCRIPTION:
URL:https://hisdaughterslegacy.org/event/community-service-christmas-town-location-time-tbd/
LOCATION:Location for Christmas Town\, 2540 Timber Drive\, Garner\, NC\, 27529
END:VEVENT
END:VCALENDAR