BEGIN:VCALENDAR
VERSION:2.0
PRODID:-//HIS Daughters’ Legacy Inc. - ECPv6.15.10//NONSGML v1.0//EN
CALSCALE:GREGORIAN
METHOD:PUBLISH
X-ORIGINAL-URL:https://hisdaughterslegacy.org
X-WR-CALDESC:Events for HIS Daughters’ Legacy Inc.
REFRESH-INTERVAL;VALUE=DURATION:PT1H
X-Robots-Tag:noindex
X-PUBLISHED-TTL:PT1H
BEGIN:VTIMEZONE
TZID:America/New_York
BEGIN:DAYLIGHT
TZOFFSETFROM:-0500
TZOFFSETTO:-0400
TZNAME:EDT
DTSTART:20250309T070000
END:DAYLIGHT
BEGIN:STANDARD
TZOFFSETFROM:-0400
TZOFFSETTO:-0500
TZNAME:EST
DTSTART:20251102T060000
END:STANDARD
BEGIN:DAYLIGHT
TZOFFSETFROM:-0500
TZOFFSETTO:-0400
TZNAME:EDT
DTSTART:20260308T070000
END:DAYLIGHT
BEGIN:STANDARD
TZOFFSETFROM:-0400
TZOFFSETTO:-0500
TZNAME:EST
DTSTART:20261101T060000
END:STANDARD
BEGIN:DAYLIGHT
TZOFFSETFROM:-0500
TZOFFSETTO:-0400
TZNAME:EDT
DTSTART:20270314T070000
END:DAYLIGHT
BEGIN:STANDARD
TZOFFSETFROM:-0400
TZOFFSETTO:-0500
TZNAME:EST
DTSTART:20271107T060000
END:STANDARD
END:VTIMEZONE
BEGIN:VEVENT
DTSTART;TZID=America/New_York:20260403T090000
DTEND;TZID=America/New_York:20260403T113000
DTSTAMP:20260423T122614
CREATED:20260327T202706Z
LAST-MODIFIED:20260327T225544Z
UID:1636-1775206800-1775215800@hisdaughterslegacy.org
SUMMARY:Durham Rescue Mission - Community Service Event
DESCRIPTION:
URL:https://hisdaughterslegacy.org/event/durham-rescue-mission-community-service-event/
LOCATION:Durham Rescue Mission\, Durham\, NC
CATEGORIES:Community Service
ATTACH;FMTTYPE=image/png:https://hisdaughterslegacy.org/wp-content/uploads/2022/09/Durham-Rescue-Mission-2.png
END:VEVENT
END:VCALENDAR