BEGIN:VCALENDAR
VERSION:2.0
PRODID:-//HIS Daughters’ Legacy Inc. - ECPv6.15.10//NONSGML v1.0//EN
CALSCALE:GREGORIAN
METHOD:PUBLISH
X-WR-CALNAME:HIS Daughters’ Legacy Inc.
X-ORIGINAL-URL:https://hisdaughterslegacy.org
X-WR-CALDESC:Events for HIS Daughters’ Legacy Inc.
REFRESH-INTERVAL;VALUE=DURATION:PT1H
X-Robots-Tag:noindex
X-PUBLISHED-TTL:PT1H
BEGIN:VTIMEZONE
TZID:America/New_York
BEGIN:DAYLIGHT
TZOFFSETFROM:-0500
TZOFFSETTO:-0400
TZNAME:EDT
DTSTART:20230312T070000
END:DAYLIGHT
BEGIN:STANDARD
TZOFFSETFROM:-0400
TZOFFSETTO:-0500
TZNAME:EST
DTSTART:20231105T060000
END:STANDARD
BEGIN:DAYLIGHT
TZOFFSETFROM:-0500
TZOFFSETTO:-0400
TZNAME:EDT
DTSTART:20240310T070000
END:DAYLIGHT
BEGIN:STANDARD
TZOFFSETFROM:-0400
TZOFFSETTO:-0500
TZNAME:EST
DTSTART:20241103T060000
END:STANDARD
BEGIN:DAYLIGHT
TZOFFSETFROM:-0500
TZOFFSETTO:-0400
TZNAME:EDT
DTSTART:20250309T070000
END:DAYLIGHT
BEGIN:STANDARD
TZOFFSETFROM:-0400
TZOFFSETTO:-0500
TZNAME:EST
DTSTART:20251102T060000
END:STANDARD
BEGIN:DAYLIGHT
TZOFFSETFROM:-0500
TZOFFSETTO:-0400
TZNAME:EDT
DTSTART:20260308T070000
END:DAYLIGHT
BEGIN:STANDARD
TZOFFSETFROM:-0400
TZOFFSETTO:-0500
TZNAME:EST
DTSTART:20261101T060000
END:STANDARD
BEGIN:DAYLIGHT
TZOFFSETFROM:-0500
TZOFFSETTO:-0400
TZNAME:EDT
DTSTART:20270314T070000
END:DAYLIGHT
BEGIN:STANDARD
TZOFFSETFROM:-0400
TZOFFSETTO:-0500
TZNAME:EST
DTSTART:20271107T060000
END:STANDARD
END:VTIMEZONE
BEGIN:VEVENT
DTSTART;TZID=America/New_York:20260417T190000
DTEND;TZID=America/New_York:20260417T203000
DTSTAMP:20260423T173526
CREATED:20260417T110056Z
LAST-MODIFIED:20260327T224914Z
UID:1634-1776452400-1776457800@hisdaughterslegacy.org
SUMMARY:Session 7 - Location TBD
DESCRIPTION:
URL:https://hisdaughterslegacy.org/event/session-7/
CATEGORIES:Sessions
ATTACH;FMTTYPE=image/jpeg:https://hisdaughterslegacy.org/wp-content/uploads/2022/09/Tweens_Doves.jpg
END:VEVENT
BEGIN:VEVENT
DTSTART;TZID=America/New_York:20260417T190000
DTEND;TZID=America/New_York:20260417T203000
DTSTAMP:20260423T173526
CREATED:20260327T225413Z
LAST-MODIFIED:20260327T225413Z
UID:2521-1776452400-1776457800@hisdaughterslegacy.org
SUMMARY:Session 7 - TBD
DESCRIPTION:
URL:https://hisdaughterslegacy.org/event/session-7-tbd/
ATTACH;FMTTYPE=image/jpeg:https://hisdaughterslegacy.org/wp-content/uploads/2022/09/Tweens_Doves.jpg
END:VEVENT
BEGIN:VEVENT
DTSTART;TZID=America/New_York:20260403T090000
DTEND;TZID=America/New_York:20260403T113000
DTSTAMP:20260423T173526
CREATED:20260327T202706Z
LAST-MODIFIED:20260327T225544Z
UID:1636-1775206800-1775215800@hisdaughterslegacy.org
SUMMARY:Durham Rescue Mission - Community Service Event
DESCRIPTION:
URL:https://hisdaughterslegacy.org/event/durham-rescue-mission-community-service-event/
LOCATION:Durham Rescue Mission\, Durham\, NC
CATEGORIES:Community Service
ATTACH;FMTTYPE=image/png:https://hisdaughterslegacy.org/wp-content/uploads/2022/09/Durham-Rescue-Mission-2.png
END:VEVENT
BEGIN:VEVENT
DTSTART;TZID=America/New_York:20260119T090000
DTEND;TZID=America/New_York:20260119T110000
DTSTAMP:20260423T173526
CREATED:20241213T034551Z
LAST-MODIFIED:20260106T015921Z
UID:1568-1768813200-1768820400@hisdaughterslegacy.org
SUMMARY:MLK Day of Service-Community Service Rise Against Hunger Event - January 19\, 2026
DESCRIPTION:
URL:https://hisdaughterslegacy.org/event/mlk-day-of-service-community-service-event/
LOCATION:Marbles Museum\, 201 E Hargett St.\, Raleigh\, NC\, 27601
CATEGORIES:Community Service
ATTACH;FMTTYPE=image/png:https://hisdaughterslegacy.org/wp-content/uploads/2022/09/mlk-day-of-service.png
END:VEVENT
BEGIN:VEVENT
DTSTART;TZID=America/New_York:20260116T190000
DTEND;TZID=America/New_York:20260116T203000
DTSTAMP:20260423T173526
CREATED:20260106T021239Z
LAST-MODIFIED:20260106T021239Z
UID:2301-1768590000-1768595400@hisdaughterslegacy.org
SUMMARY:Session 5 - Location TBD
DESCRIPTION:
URL:https://hisdaughterslegacy.org/event/session-5-location-tbd/
CATEGORIES:Sessions
ATTACH;FMTTYPE=image/jpeg:https://hisdaughterslegacy.org/wp-content/uploads/2022/09/Tweens_Doves.jpg
END:VEVENT
BEGIN:VEVENT
DTSTART;TZID=America/New_York:20251212T183000
DTEND;TZID=America/New_York:20251212T203000
DTSTAMP:20260423T173526
CREATED:20250905T203737Z
LAST-MODIFIED:20251129T200642Z
UID:2150-1765564200-1765571400@hisdaughterslegacy.org
SUMMARY:Session 4: Christmas Celebration
DESCRIPTION:Participants must log in to register. Registration closes on 12/7/25.
URL:https://hisdaughterslegacy.org/event/christmas-celebration-3/
LOCATION:Barwell Road Community Center
ATTACH;FMTTYPE=image/jpeg:https://hisdaughterslegacy.org/wp-content/uploads/2022/09/Adore-Him.jpg
END:VEVENT
BEGIN:VEVENT
DTSTART;TZID=America/New_York:20251205T150000
DTEND;TZID=America/New_York:20251205T210000
DTSTAMP:20260423T173526
CREATED:20241102T181431Z
LAST-MODIFIED:20251129T192722Z
UID:1512-1764946800-1764968400@hisdaughterslegacy.org
SUMMARY:Community Service - Christmas Town - Service will be done in shifts
DESCRIPTION:
URL:https://hisdaughterslegacy.org/event/community-service-christmas-town-location-time-tbd/
LOCATION:Location for Christmas Town\, 2540 Timber Drive\, Garner\, NC\, 27529
END:VEVENT
BEGIN:VEVENT
DTSTART;TZID=America/New_York:20251114T190000
DTEND;TZID=America/New_York:20251114T203000
DTSTAMP:20260423T173526
CREATED:20250905T203246Z
LAST-MODIFIED:20251101T231834Z
UID:2148-1763146800-1763152200@hisdaughterslegacy.org
SUMMARY:Session 3
DESCRIPTION:
URL:https://hisdaughterslegacy.org/event/session-3-7pm-location-tbd/
LOCATION:Barwell Road Community Center
ATTACH;FMTTYPE=image/jpeg:https://hisdaughterslegacy.org/wp-content/uploads/2022/09/Tweens_Doves.jpg
END:VEVENT
BEGIN:VEVENT
DTSTART;TZID=America/New_York:20251108T130000
DTEND;TZID=America/New_York:20251108T160000
DTSTAMP:20260423T173526
CREATED:20251101T233744Z
LAST-MODIFIED:20251102T004929Z
UID:2251-1762606800-1762617600@hisdaughterslegacy.org
SUMMARY:Zach's Toy Chest - Community Service Event
DESCRIPTION:
URL:https://hisdaughterslegacy.org/event/zachs-toy-chest-community-service-event/
LOCATION:Extra Space Storage\, 1309 New Hill Road\, Holly Springs\, NC\, 27540
CATEGORIES:Community Service
ATTACH;FMTTYPE=image/png:https://hisdaughterslegacy.org/wp-content/uploads/2025/11/zachs-toy-chest-1.png
END:VEVENT
BEGIN:VEVENT
DTSTART;TZID=America/New_York:20251025T110000
DTEND;TZID=America/New_York:20251025T130000
DTSTAMP:20260423T173526
CREATED:20251004T195430Z
LAST-MODIFIED:20251004T212727Z
UID:2174-1761390000-1761397200@hisdaughterslegacy.org
SUMMARY:Blanket Making Event
DESCRIPTION:Log in to register! \n 
URL:https://hisdaughterslegacy.org/event/blanket-making-event/
LOCATION:Barwell Road Community Center
END:VEVENT
BEGIN:VEVENT
DTSTART;TZID=America/New_York:20251018T083000
DTEND;TZID=America/New_York:20251018T160000
DTSTAMP:20260423T173526
CREATED:20251006T002926Z
LAST-MODIFIED:20251012T003219Z
UID:2208-1760776200-1760803200@hisdaughterslegacy.org
SUMMARY:Yard Sale Fundraiser-Rescheduled for 10/18/25 Due to Weather
DESCRIPTION:
URL:https://hisdaughterslegacy.org/event/yard-sale-fundraiser/
LOCATION:Southeast Raleigh High School\, Raleigh\, NC\, 27610
END:VEVENT
BEGIN:VEVENT
DTSTART;TZID=America/New_York:20251017T190000
DTEND;TZID=America/New_York:20251017T203000
DTSTAMP:20260423T173526
CREATED:20250905T202722Z
LAST-MODIFIED:20251006T010338Z
UID:2146-1760727600-1760733000@hisdaughterslegacy.org
SUMMARY:Session 2
DESCRIPTION:
URL:https://hisdaughterslegacy.org/event/session-2-7pm-location-tbd/
LOCATION:Pullen Community Center
ATTACH;FMTTYPE=image/jpeg:https://hisdaughterslegacy.org/wp-content/uploads/2022/09/Tweens_Doves.jpg
END:VEVENT
BEGIN:VEVENT
DTSTART;TZID=America/New_York:20251004T083000
DTEND;TZID=America/New_York:20251004T103000
DTSTAMP:20260423T173526
CREATED:20251006T002417Z
LAST-MODIFIED:20251006T003103Z
UID:2205-1759566600-1759573800@hisdaughterslegacy.org
SUMMARY:Prayer Walk
DESCRIPTION:Join us for a prayer walk with the women of Watts.
URL:https://hisdaughterslegacy.org/event/prayer-walk/
LOCATION:White Deer Park\, 2400 Aversboro Road\, Garner\, NC\, 27529
END:VEVENT
BEGIN:VEVENT
DTSTART;TZID=America/New_York:20250919T190000
DTEND;TZID=America/New_York:20250919T203000
DTSTAMP:20260423T173526
CREATED:20230909T110041Z
LAST-MODIFIED:20250905T205500Z
UID:393-1758308400-1758313800@hisdaughterslegacy.org
SUMMARY:Session 1 and Parent Session @ 7pm
DESCRIPTION:
URL:https://hisdaughterslegacy.org/event/session-1/
CATEGORIES:Sessions
ATTACH;FMTTYPE=image/png:https://hisdaughterslegacy.org/wp-content/uploads/2023/09/Screenshot-2025-09-05-165300.png
END:VEVENT
BEGIN:VEVENT
DTSTART;TZID=America/New_York:20250907T153000
DTEND;TZID=America/New_York:20250907T170000
DTSTAMP:20260423T173526
CREATED:20240929T232903Z
LAST-MODIFIED:20250905T203937Z
UID:1423-1757259000-1757264400@hisdaughterslegacy.org
SUMMARY:Annual Kickoff Session - Chavis Community Center 3:30pm - 5:00pm
DESCRIPTION:
URL:https://hisdaughterslegacy.org/event/kickoff-session-pullen-park/
LOCATION:Chavis Community Center
ATTACH;FMTTYPE=image/png:https://hisdaughterslegacy.org/wp-content/uploads/2022/09/Chavis-Community-Center.png
END:VEVENT
BEGIN:VEVENT
DTSTART;TZID=America/New_York:20241220T184500
DTEND;TZID=America/New_York:20241220T203000
DTSTAMP:20260423T173526
CREATED:20241102T181828Z
LAST-MODIFIED:20241102T181944Z
UID:1516-1734720300-1734726600@hisdaughterslegacy.org
SUMMARY:Christmas Celebration
DESCRIPTION:
URL:https://hisdaughterslegacy.org/event/christmas-celebration-2/
ATTACH;FMTTYPE=image/jpeg:https://hisdaughterslegacy.org/wp-content/uploads/2022/09/Adore-Him.jpg
END:VEVENT
BEGIN:VEVENT
DTSTART;TZID=America/New_York:20241214T120000
DTEND;TZID=America/New_York:20241214T120000
DTSTAMP:20260423T173526
CREATED:20241102T181553Z
LAST-MODIFIED:20241102T182316Z
UID:1514-1734177600-1734177600@hisdaughterslegacy.org
SUMMARY:Fundraiser Grand Prize & Bonus Drawings
DESCRIPTION:
URL:https://hisdaughterslegacy.org/event/fundraiser-grand-prize-bonus-drawings/
END:VEVENT
BEGIN:VEVENT
DTSTART;TZID=America/New_York:20241214T110000
DTEND;TZID=America/New_York:20241214T130000
DTSTAMP:20260423T173526
CREATED:20240426T233228Z
LAST-MODIFIED:20241214T133547Z
UID:1101-1734174000-1734181200@hisdaughterslegacy.org
SUMMARY:Private:Cooking Class @ Flour Power in Holly Springs\, NC
DESCRIPTION:
URL:https://hisdaughterslegacy.org/event/cooking-class-flour-power-in-holly-springs-nc/
LOCATION:Flour Power\, Holly Springs\, NC\, 27540\, United States
ATTACH;FMTTYPE=image/png:https://hisdaughterslegacy.org/wp-content/uploads/2022/09/cooking-class.png
END:VEVENT
BEGIN:VEVENT
DTSTART;TZID=America/New_York:20241116T090000
DTEND;TZID=America/New_York:20241116T124500
DTSTAMP:20260423T173526
CREATED:20220903T210443Z
LAST-MODIFIED:20241111T231959Z
UID:360-1731747600-1731761100@hisdaughterslegacy.org
SUMMARY:Community Service Event - With Love from Jesus
DESCRIPTION:
URL:https://hisdaughterslegacy.org/event/community-service-event-with-love-from-jesus/
LOCATION:With Love From Jesus Ministries\, 421 Chapanoke Road\, Raleigh\, NC\, 2603
CATEGORIES:Community Service
END:VEVENT
BEGIN:VEVENT
DTSTART;TZID=America/New_York:20241018T190000
DTEND;TZID=America/New_York:20241018T203000
DTSTAMP:20260423T173526
CREATED:20251017T110036Z
LAST-MODIFIED:20250813T021734Z
UID:390-1729278000-1729283400@hisdaughterslegacy.org
SUMMARY:Session 2 and Parent Session
DESCRIPTION:
URL:https://hisdaughterslegacy.org/event/session-2-and-parent-session/
CATEGORIES:Sessions
END:VEVENT
BEGIN:VEVENT
DTSTART;TZID=America/New_York:20241005T130000
DTEND;TZID=America/New_York:20241005T150000
DTSTAMP:20260423T173526
CREATED:20220904T022813Z
LAST-MODIFIED:20240929T210247Z
UID:404-1728133200-1728140400@hisdaughterslegacy.org
SUMMARY:Paint Picnic - Lake Benson Park
DESCRIPTION:
URL:https://hisdaughterslegacy.org/event/paint-picnic-lake-benson-park/
LOCATION:Lake Benson Park\, Garner\, NC
END:VEVENT
BEGIN:VEVENT
DTSTART;TZID=America/New_York:20240928T130000
DTEND;TZID=America/New_York:20240928T160000
DTSTAMP:20260423T173526
CREATED:20220903T224620Z
LAST-MODIFIED:20240929T204929Z
UID:363-1727528400-1727539200@hisdaughterslegacy.org
SUMMARY:Training for Christmas Town Community Service
DESCRIPTION:
URL:https://hisdaughterslegacy.org/event/training-for-christmas-town-community-service/
LOCATION:First Presbyterian Church\, Garner\, NC
CATEGORIES:Community Service
END:VEVENT
BEGIN:VEVENT
DTSTART;TZID=America/New_York:20240921T153000
DTEND;TZID=America/New_York:20240921T183000
DTSTAMP:20260423T173526
CREATED:20231231T211602Z
LAST-MODIFIED:20240914T224942Z
UID:941-1726932600-1726943400@hisdaughterslegacy.org
SUMMARY:Fun Event - Galaxy Fun Park
DESCRIPTION:Login to Register and Make Payment to Attend this Fun Event!
URL:https://hisdaughterslegacy.org/event/fun-event-galaxy-fun-park/
LOCATION:Galaxy Fun Park\, 14460 New Falls of Neuse Rd\, Raleigh\, North Carolina\, 27614
END:VEVENT
BEGIN:VEVENT
DTSTART;TZID=America/New_York:20240914T110000
DTEND;TZID=America/New_York:20240914T150000
DTSTAMP:20260423T173526
CREATED:20240929T232507Z
LAST-MODIFIED:20240929T232523Z
UID:1421-1726311600-1726326000@hisdaughterslegacy.org
SUMMARY:Community Service @ Chavis Park
DESCRIPTION:
URL:https://hisdaughterslegacy.org/event/community-service-chavis-park/
LOCATION:Chavis Park\, 505 Martin Luther King Jr. Blvd\, Raleigh\, NC\, 27610
CATEGORIES:Community Service
END:VEVENT
BEGIN:VEVENT
DTSTART;TZID=America/New_York:20240628T000000
DTEND;TZID=America/New_York:20240629T000000
DTSTAMP:20260423T173526
CREATED:20220904T035141Z
LAST-MODIFIED:20240131T142638Z
UID:519-1719532800-1719619200@hisdaughterslegacy.org
SUMMARY:Year End Celebration - Spirit of Norfolk Cruise\, Beach\, and APEX Entertainment
DESCRIPTION:Select Website Link for Payment to Attend this Celebration! \n**PAYMENT DUE FEBRUARY 26\, 2024!!**
URL:https://hisdaughterslegacy.org/event/year-end-celebration/
LOCATION:TBD
ATTACH;FMTTYPE=image/webp:https://hisdaughterslegacy.org/wp-content/uploads/2022/09/end-of-year-celebration_purple.webp
END:VEVENT
BEGIN:VEVENT
DTSTART;TZID=America/New_York:20240614T190000
DTEND;TZID=America/New_York:20240614T203000
DTSTAMP:20260423T173526
CREATED:20231231T215030Z
LAST-MODIFIED:20231231T215030Z
UID:952-1718391600-1718397000@hisdaughterslegacy.org
SUMMARY:Awards Night
DESCRIPTION:
URL:https://hisdaughterslegacy.org/event/awards-night/
ATTACH;FMTTYPE=image/png:https://hisdaughterslegacy.org/wp-content/uploads/2023/12/Awards-Night.png
END:VEVENT
BEGIN:VEVENT
DTSTART;TZID=America/New_York:20240517T190000
DTEND;TZID=America/New_York:20240517T203000
DTSTAMP:20260423T173526
CREATED:20220904T033649Z
LAST-MODIFIED:20231231T214200Z
UID:512-1715972400-1715977800@hisdaughterslegacy.org
SUMMARY:Session 8
DESCRIPTION:
URL:https://hisdaughterslegacy.org/event/session-8-pullen-community-center/
CATEGORIES:Sessions
END:VEVENT
BEGIN:VEVENT
DTSTART;TZID=America/New_York:20240420T000000
DTEND;TZID=America/New_York:20240420T000000
DTSTAMP:20260423T173526
CREATED:20231231T212826Z
LAST-MODIFIED:20240328T214500Z
UID:944-1713571200-1713571200@hisdaughterslegacy.org
SUMMARY:Fun Event - Bowling @ Buffaloe Lanes
DESCRIPTION:
URL:https://hisdaughterslegacy.org/event/fun-event-bowling-buffaloe-lanes-time-and-location-tbd/
ATTACH;FMTTYPE=image/png:https://hisdaughterslegacy.org/wp-content/uploads/2023/12/Bowling.png
END:VEVENT
BEGIN:VEVENT
DTSTART;TZID=America/New_York:20240419T190000
DTEND;TZID=America/New_York:20240419T203000
DTSTAMP:20260423T173526
CREATED:20220904T031621Z
LAST-MODIFIED:20231231T205832Z
UID:500-1713553200-1713558600@hisdaughterslegacy.org
SUMMARY:Session 7 & Parent Session
DESCRIPTION:
URL:https://hisdaughterslegacy.org/event/session-7-pullen-community-center/
CATEGORIES:Sessions
END:VEVENT
BEGIN:VEVENT
DTSTART;TZID=America/New_York:20240329T083000
DTEND;TZID=America/New_York:20240329T110000
DTSTAMP:20260423T173526
CREATED:20220904T031229Z
LAST-MODIFIED:20231231T212040Z
UID:490-1711701000-1711710000@hisdaughterslegacy.org
SUMMARY:GOOD FRIDAY - Community Service Event @ Durham Rescue Mission (Time TBD)
DESCRIPTION:
URL:https://hisdaughterslegacy.org/event/good-friday-community-service-event-durham-rescue-mission/
LOCATION:Durham Rescue Mission\, Durham\, NC
CATEGORIES:Community Service
ATTACH;FMTTYPE=image/png:https://hisdaughterslegacy.org/wp-content/uploads/2022/09/Durham-Rescue-Mission-2.png
END:VEVENT
END:VCALENDAR