BEGIN:VCALENDAR
VERSION:2.0
PRODID:-//HIS Daughters’ Legacy Inc. - ECPv6.15.10//NONSGML v1.0//EN
CALSCALE:GREGORIAN
METHOD:PUBLISH
X-WR-CALNAME:HIS Daughters’ Legacy Inc.
X-ORIGINAL-URL:https://hisdaughterslegacy.org
X-WR-CALDESC:Events for HIS Daughters’ Legacy Inc.
REFRESH-INTERVAL;VALUE=DURATION:PT1H
X-Robots-Tag:noindex
X-PUBLISHED-TTL:PT1H
BEGIN:VTIMEZONE
TZID:America/New_York
BEGIN:DAYLIGHT
TZOFFSETFROM:-0500
TZOFFSETTO:-0400
TZNAME:EDT
DTSTART:20210314T070000
END:DAYLIGHT
BEGIN:STANDARD
TZOFFSETFROM:-0400
TZOFFSETTO:-0500
TZNAME:EST
DTSTART:20211107T060000
END:STANDARD
BEGIN:DAYLIGHT
TZOFFSETFROM:-0500
TZOFFSETTO:-0400
TZNAME:EDT
DTSTART:20220313T070000
END:DAYLIGHT
BEGIN:STANDARD
TZOFFSETFROM:-0400
TZOFFSETTO:-0500
TZNAME:EST
DTSTART:20221106T060000
END:STANDARD
BEGIN:DAYLIGHT
TZOFFSETFROM:-0500
TZOFFSETTO:-0400
TZNAME:EDT
DTSTART:20230312T070000
END:DAYLIGHT
BEGIN:STANDARD
TZOFFSETFROM:-0400
TZOFFSETTO:-0500
TZNAME:EST
DTSTART:20231105T060000
END:STANDARD
BEGIN:DAYLIGHT
TZOFFSETFROM:-0500
TZOFFSETTO:-0400
TZNAME:EDT
DTSTART:20240310T070000
END:DAYLIGHT
BEGIN:STANDARD
TZOFFSETFROM:-0400
TZOFFSETTO:-0500
TZNAME:EST
DTSTART:20241103T060000
END:STANDARD
END:VTIMEZONE
BEGIN:VTIMEZONE
TZID:UTC
BEGIN:STANDARD
TZOFFSETFROM:+0000
TZOFFSETTO:+0000
TZNAME:UTC
DTSTART:20220101T000000
END:STANDARD
END:VTIMEZONE
BEGIN:VEVENT
DTSTART;TZID=America/New_York:20230826T110000
DTEND;TZID=America/New_York:20230826T130000
DTSTAMP:20260423T185859
CREATED:20220909T110029Z
LAST-MODIFIED:20230910T015633Z
UID:540-1693047600-1693054800@hisdaughterslegacy.org
SUMMARY:Annual Kickoff Session - Pullen Park
DESCRIPTION:
URL:https://hisdaughterslegacy.org/event/annual-kickoff-session-pullen-park/
LOCATION:Pullen Park\, Raleigh\, NC
END:VEVENT
BEGIN:VEVENT
DTSTART;TZID=America/New_York:20230616T190000
DTEND;TZID=America/New_York:20230616T203000
DTSTAMP:20260423T185859
CREATED:20220904T033823Z
LAST-MODIFIED:20230107T231057Z
UID:515-1686942000-1686947400@hisdaughterslegacy.org
SUMMARY:FINAL SESSION
DESCRIPTION:
URL:https://hisdaughterslegacy.org/event/final-session-pullen-community-center/
CATEGORIES:Sessions
END:VEVENT
BEGIN:VEVENT
DTSTART;TZID=America/New_York:20230422T110000
DTEND;TZID=America/New_York:20230422T123000
DTSTAMP:20260423T185859
CREATED:20220904T032746Z
LAST-MODIFIED:20230107T230955Z
UID:503-1682161200-1682166600@hisdaughterslegacy.org
SUMMARY:Special Session - TWEENS & DOVES (Location TBD)
DESCRIPTION:
URL:https://hisdaughterslegacy.org/event/special-session-tweens-doves-location-tbd-2/
ATTACH;FMTTYPE=image/jpeg:https://hisdaughterslegacy.org/wp-content/uploads/2022/09/Tweens_Doves.jpg
END:VEVENT
BEGIN:VEVENT
DTSTART;TZID=America/New_York:20230325T000000
DTEND;TZID=America/New_York:20230325T000000
DTSTAMP:20260423T185859
CREATED:20220904T030013Z
LAST-MODIFIED:20230107T230921Z
UID:485-1679702400-1679702400@hisdaughterslegacy.org
SUMMARY:Career Day - GIRLS HAVE OPTIONS! (Location/Time TBD)
DESCRIPTION:
URL:https://hisdaughterslegacy.org/event/career-day-girls-have-options-location-time-tbd/
ATTACH;FMTTYPE=image/jpeg:https://hisdaughterslegacy.org/wp-content/uploads/2022/09/career-800x500-1.jpg
END:VEVENT
BEGIN:VEVENT
DTSTART;TZID=UTC:20230211T110000
DTEND;TZID=UTC:20230211T123000
DTSTAMP:20260423T185859
CREATED:20220904T021836Z
LAST-MODIFIED:20230107T225755Z
UID:400-1676113200-1676118600@hisdaughterslegacy.org
SUMMARY:Special Session - TWEENS & DOVES (Location TBD)
DESCRIPTION:
URL:https://hisdaughterslegacy.org/event/special-session-tweens-doves-location-tbd/
CATEGORIES:Special Sessions
ATTACH;FMTTYPE=image/jpeg:https://hisdaughterslegacy.org/wp-content/uploads/2022/09/Tweens_Doves.jpg
END:VEVENT
BEGIN:VEVENT
DTSTART;TZID=America/New_York:20221223T193000
DTEND;TZID=America/New_York:20221223T233000
DTSTAMP:20260423T185859
CREATED:20220904T055459Z
LAST-MODIFIED:20220904T055503Z
UID:387-1671823800-1671838200@hisdaughterslegacy.org
SUMMARY:Hip Hop Nutcracker @ Durham Performing Arts Center
DESCRIPTION:
URL:https://hisdaughterslegacy.org/event/hip-hop-nutcracker-durham-performing-arts-center/
LOCATION:Durham Performing Arts Center\, 123 Vivian Street\, Durham\, NC\, 27701
ATTACH;FMTTYPE=image/png:https://hisdaughterslegacy.org/wp-content/uploads/2022/09/The-Hip-Hop-Nutcracker.png
END:VEVENT
BEGIN:VEVENT
DTSTART;TZID=America/New_York:20221014T190000
DTEND;TZID=America/New_York:20221014T190000
DTSTAMP:20260423T185859
CREATED:20221014T012501Z
LAST-MODIFIED:20221014T012501Z
UID:537-1665774000-1665774000@hisdaughterslegacy.org
SUMMARY:Mom's Round Table
DESCRIPTION:
URL:https://hisdaughterslegacy.org/event/moms-round-table/
END:VEVENT
BEGIN:VEVENT
DTSTART;TZID=America/New_York:20220910T113000
DTEND;TZID=America/New_York:20220910T130000
DTSTAMP:20260423T185859
CREATED:20220903T075404Z
LAST-MODIFIED:20220903T075408Z
UID:342-1662809400-1662814800@hisdaughterslegacy.org
SUMMARY:Annual Kickoff Session @ Chavis Park Carousel House
DESCRIPTION:
URL:https://hisdaughterslegacy.org/event/annual-kickoff-session-chavis-park-carousel-house/
LOCATION:Chavis Park\, 505 Martin Luther King Jr. Blvd\, Raleigh\, NC\, 27610
ATTACH;FMTTYPE=image/jpeg:https://hisdaughterslegacy.org/wp-content/uploads/2022/09/Chavis-Park-Crousel-House.jpg
END:VEVENT
END:VCALENDAR